BEGIN:VCALENDAR
VERSION:2.0
PRODID:-//East Asian Languages &amp; Cultural Studies - ECPv6.15.12.2//NONSGML v1.0//EN
CALSCALE:GREGORIAN
METHOD:PUBLISH
X-WR-CALNAME:East Asian Languages &amp; Cultural Studies
X-ORIGINAL-URL:https://eastasian.ucsb.edu
X-WR-CALDESC:Events for East Asian Languages &amp; Cultural Studies
REFRESH-INTERVAL;VALUE=DURATION:PT1H
X-Robots-Tag:noindex
X-PUBLISHED-TTL:PT1H
BEGIN:VTIMEZONE
TZID:America/Los_Angeles
BEGIN:DAYLIGHT
TZOFFSETFROM:-0800
TZOFFSETTO:-0700
TZNAME:PDT
DTSTART:20180311T100000
END:DAYLIGHT
BEGIN:STANDARD
TZOFFSETFROM:-0700
TZOFFSETTO:-0800
TZNAME:PST
DTSTART:20181104T090000
END:STANDARD
BEGIN:DAYLIGHT
TZOFFSETFROM:-0800
TZOFFSETTO:-0700
TZNAME:PDT
DTSTART:20190310T100000
END:DAYLIGHT
BEGIN:STANDARD
TZOFFSETFROM:-0700
TZOFFSETTO:-0800
TZNAME:PST
DTSTART:20191103T090000
END:STANDARD
BEGIN:DAYLIGHT
TZOFFSETFROM:-0800
TZOFFSETTO:-0700
TZNAME:PDT
DTSTART:20200308T100000
END:DAYLIGHT
BEGIN:STANDARD
TZOFFSETFROM:-0700
TZOFFSETTO:-0800
TZNAME:PST
DTSTART:20201101T090000
END:STANDARD
END:VTIMEZONE
BEGIN:VEVENT
DTSTART;TZID=America/Los_Angeles:20190926T140000
DTEND;TZID=America/Los_Angeles:20190926T160000
DTSTAMP:20260424T092348
CREATED:20190611T175709Z
LAST-MODIFIED:20190611T180448Z
UID:6555-1569506400-1569513600@eastasian.ucsb.edu
SUMMARY:Korean 4 placement test
DESCRIPTION:The placement test for Korean 4 will take place on September 26th at 2pm. \nIn order to take this test\, please contact Wona Lee at wonalee@ucsb.edu
URL:https://eastasian.ucsb.edu/event/korean-4-placement-test/
CATEGORIES:Placement Test
END:VEVENT
END:VCALENDAR