BEGIN:VCALENDAR
VERSION:2.0
PRODID:-//East Asian Languages &amp; Cultural Studies - ECPv6.15.12.2//NONSGML v1.0//EN
CALSCALE:GREGORIAN
METHOD:PUBLISH
X-WR-CALNAME:East Asian Languages &amp; Cultural Studies
X-ORIGINAL-URL:https://eastasian.ucsb.edu
X-WR-CALDESC:Events for East Asian Languages &amp; Cultural Studies
REFRESH-INTERVAL;VALUE=DURATION:PT1H
X-Robots-Tag:noindex
X-PUBLISHED-TTL:PT1H
BEGIN:VTIMEZONE
TZID:America/Los_Angeles
BEGIN:DAYLIGHT
TZOFFSETFROM:-0800
TZOFFSETTO:-0700
TZNAME:PDT
DTSTART:20180311T100000
END:DAYLIGHT
BEGIN:STANDARD
TZOFFSETFROM:-0700
TZOFFSETTO:-0800
TZNAME:PST
DTSTART:20181104T090000
END:STANDARD
BEGIN:DAYLIGHT
TZOFFSETFROM:-0800
TZOFFSETTO:-0700
TZNAME:PDT
DTSTART:20190310T100000
END:DAYLIGHT
BEGIN:STANDARD
TZOFFSETFROM:-0700
TZOFFSETTO:-0800
TZNAME:PST
DTSTART:20191103T090000
END:STANDARD
BEGIN:DAYLIGHT
TZOFFSETFROM:-0800
TZOFFSETTO:-0700
TZNAME:PDT
DTSTART:20200308T100000
END:DAYLIGHT
BEGIN:STANDARD
TZOFFSETFROM:-0700
TZOFFSETTO:-0800
TZNAME:PST
DTSTART:20201101T090000
END:STANDARD
END:VTIMEZONE
BEGIN:VEVENT
DTSTART;TZID=America/Los_Angeles:20190408T080000
DTEND;TZID=America/Los_Angeles:20190530T170000
DTSTAMP:20260425T171150
CREATED:20190404T050216Z
LAST-MODIFIED:20190404T050445Z
UID:6502-1554710400-1559235600@eastasian.ucsb.edu
SUMMARY:Japanese Language Placement Test for Summer 19
DESCRIPTION:Please sign up for the placement test by Thursday\, May 30. Go on to the program website for more information.\nhttp://japaneselanguage.eastasian.ucsb.edu/about/placement(summer).htm
URL:https://eastasian.ucsb.edu/event/japanese-language-placement-test-for-summer-19/
CATEGORIES:Placement Test
END:VEVENT
END:VCALENDAR